BEGIN:VCALENDAR
VERSION:2.0
PRODID:-//Australia Awards - ECPv6.15.20//NONSGML v1.0//EN
CALSCALE:GREGORIAN
METHOD:PUBLISH
X-WR-CALNAME:Australia Awards
X-ORIGINAL-URL:https://www.australiaawardscambodia.org
X-WR-CALDESC:Events for Australia Awards
REFRESH-INTERVAL;VALUE=DURATION:PT1H
X-Robots-Tag:noindex
X-PUBLISHED-TTL:PT1H
BEGIN:VTIMEZONE
TZID:UTC
BEGIN:STANDARD
TZOFFSETFROM:+0000
TZOFFSETTO:+0000
TZNAME:UTC
DTSTART:20220101T000000
END:STANDARD
END:VTIMEZONE
BEGIN:VEVENT
DTSTART;TZID=UTC:20230301T160000
DTEND;TZID=UTC:20230301T180000
DTSTAMP:20260422T130822
CREATED:20230223T133231Z
LAST-MODIFIED:20230224T020849Z
UID:3028-1677686400-1677693600@www.australiaawardscambodia.org
SUMMARY:Women and Scholarships
DESCRIPTION:Details: This event is to provide information on Australia Awards Scholarships (AAS) Intake 2024 and an opportunity to talk to our female alumni about their scholarship journey from applying to living in Australia and returning to Cambodia after their studies.\n\n\nTarget audience: Cambodian women looking for an opportunity to undertake their studies at a world-class university in Australia in 2024 and in the future.\n\n\nVenue: The session will be conducted at Raffles Hotel Le Royal\, Phnom Penh.\n\n\nRegistration: via the QR Code
URL:https://www.australiaawardscambodia.org/event/women-and-scholarships/
LOCATION:Raffles Hotel Le Royal\, Cambodia
CATEGORIES:AAS
ATTACH;FMTTYPE=image/jpeg:https://www.australiaawardscambodia.org/wp-content/uploads/2023/02/Women-scholarship-FB-poster_01Mar2023.jpg
END:VEVENT
END:VCALENDAR