BEGIN:VCALENDAR
VERSION:2.0
PRODID:-//Australia Awards - ECPv6.15.20//NONSGML v1.0//EN
CALSCALE:GREGORIAN
METHOD:PUBLISH
X-ORIGINAL-URL:https://www.australiaawardscambodia.org
X-WR-CALDESC:Events for Australia Awards
REFRESH-INTERVAL;VALUE=DURATION:PT1H
X-Robots-Tag:noindex
X-PUBLISHED-TTL:PT1H
BEGIN:VTIMEZONE
TZID:UTC
BEGIN:STANDARD
TZOFFSETFROM:+0000
TZOFFSETTO:+0000
TZNAME:UTC
DTSTART:20220101T000000
END:STANDARD
END:VTIMEZONE
BEGIN:VEVENT
DTSTART;TZID=UTC:20230314T180000
DTEND;TZID=UTC:20230314T190000
DTSTAMP:20260420T110746
CREATED:20230302T091249Z
LAST-MODIFIED:20230302T091249Z
UID:3120-1678816800-1678820400@www.australiaawardscambodia.org
SUMMARY:Australia Awards Scholarships Intake 2024 - Second Facebook Live Session
DESCRIPTION:Details: This is the second Facebook Live session about Australia Awards Scholarships – Intake 2024. It is the opportunity to hear from our guest speaker Mr. Cheut Reasmey\, one of the alumni who graduated from the University of Sydney with a Master Degree in Project Management. He is also the Ambassador for the Australia Awards Scholarships Intake 2024. \nPlease tune in our Facebook page to listen to Mr. Reasmey’s experience applying for the scholarship and how his life was while studying in Australia. \nTarget audience: Cambodians who hold a degree and wish to pursue postgraduate education in Australia in 2024.
URL:https://www.australiaawardscambodia.org/event/australia-awards-scholarships-intake-2024-second-facebook-live-session/
ATTACH;FMTTYPE=image/jpeg:https://www.australiaawardscambodia.org/wp-content/uploads/2023/03/AAS-2024-2nd-Facebook-live.jpg
END:VEVENT
END:VCALENDAR